BEGIN:VCALENDAR
VERSION:2.0
PRODID:-//WoodWorks | Wood Products Council - ECPv6.15.20//NONSGML v1.0//EN
CALSCALE:GREGORIAN
METHOD:PUBLISH
X-WR-CALNAME:WoodWorks | Wood Products Council
X-ORIGINAL-URL:https://www.woodworks.org
X-WR-CALDESC:Events for WoodWorks | Wood Products Council
REFRESH-INTERVAL;VALUE=DURATION:PT1H
X-Robots-Tag:noindex
X-PUBLISHED-TTL:PT1H
BEGIN:VTIMEZONE
TZID:America/Detroit
BEGIN:DAYLIGHT
TZOFFSETFROM:-0500
TZOFFSETTO:-0400
TZNAME:EDT
DTSTART:20250309T070000
END:DAYLIGHT
BEGIN:STANDARD
TZOFFSETFROM:-0400
TZOFFSETTO:-0500
TZNAME:EST
DTSTART:20251102T060000
END:STANDARD
BEGIN:DAYLIGHT
TZOFFSETFROM:-0500
TZOFFSETTO:-0400
TZNAME:EDT
DTSTART:20260308T070000
END:DAYLIGHT
BEGIN:STANDARD
TZOFFSETFROM:-0400
TZOFFSETTO:-0500
TZNAME:EST
DTSTART:20261101T060000
END:STANDARD
BEGIN:DAYLIGHT
TZOFFSETFROM:-0500
TZOFFSETTO:-0400
TZNAME:EDT
DTSTART:20270314T070000
END:DAYLIGHT
BEGIN:STANDARD
TZOFFSETFROM:-0400
TZOFFSETTO:-0500
TZNAME:EST
DTSTART:20271107T060000
END:STANDARD
END:VTIMEZONE
BEGIN:VEVENT
DTSTART;TZID=America/Detroit:20260630T130000
DTEND;TZID=America/Detroit:20260630T160000
DTSTAMP:20260420T174105
CREATED:20260415T210810Z
LAST-MODIFIED:20260417T150444Z
UID:10000449-1782824400-1782835200@www.woodworks.org
SUMMARY:Construction Type Selection & Multi-Family Housing  + MSU Tour
DESCRIPTION:Regional In-Person Seminar + Tour (East Lansing\, MI)\nJoin us for a unique two-part event featuring an educational seminar on mass timber design\, followed by a firsthand look at Michigan State University’s STEM Teaching and Learning Facility. \nMid-Rise Mass Timber: Construction Type Selection & Opportunities for Multi-Family Housing (2.0 AIA/CES HSW LU\, 2.0 PDH credits or 0.20 ICC credits) \nOpportunities for mid-rise mass timber construction are expanding\, particularly in multi-family housing\, as recent International Building Code (IBC) updates allow mass timber in buildings up to 18 stories. This session will explore construction type selection\, critical early design decisions\, and the use of mass timber in 4- to 12-story residential and mixed-use projects—including hybrid systems that combine mass timber with light-frame wood construction to address the “missing middle” in housing. Participants will review key code considerations\, including construction types\, allowable heights and areas\, and fire-resistance requirements\, with a focus on strategies for exposed timber. \nTour MSU’s Mass Timber STEM Teaching and Learning Facility (1.0 AIA/CES HSW LU\, 1.0 PDH credit or 0.10 ICC credit) \nFollowing the presentation\, attendees can tour MSU’s 121\,000 square-foot STEM Building\, which pioneered the first significant use of cross-laminated timber (CLT) in the state. The project features three stories of glulam post-and-beam construction with steel diagonal bracing\, CLT floor and roof decks\, and CLT walls in egress stairs. The tour format encourages questions and discussion\, and attendees will learn about the project’s design\, execution\, and various detailing and construction techniques utilized throughout the building. \n\nSchedule: \n12:30 pm – Registration Opens | Lunch provided for attendees  \n1:00 – 3:00 – Presentation \n3:00 – 4:00 – Tour \n  \n\n \nProduced in collaboration with MassTimber@MSU. \n  \nSpeaker: Anthony Harvey\, PE\, WoodWorks \n  \nCredits: 3.0 (3.0 HSW) – Attendees can Earn 2.0 AIA/CES HSW LU\, 2.0 PDH credits or 0.20 ICC credits for the seminar + 1.0 AIA/CES HSW LU\, 1.0 PDH credit or 0.10 ICC credit for the tour. \n\n\n  \nLocation: \nMichigan State University (STEM Building) \n642 Red Cedar Rd \nEast Lansing\, MI 48824 \nSTEM Room 1202 \nEvent Parking: \nParking: Lot 79 – the Spartan Stadium lot – located directly west of the STEM building. This is metered parking. \nMap & Directions \n  \nFor questions or additional information\, please contact: Mary Schramka at mary.schramka@woodworks.org \n  \nImage: MSU STEM Teaching and Learning Facility / Integrated Design Solutions / SDI Structures / Photo Kevin Marshall/Integrated Design Solutions
URL:https://www.woodworks.org/event/q2-26-mass-timber-msu-harvey-in-person/
LOCATION:Michigan State University (MSU) STEM Teaching Learning Facility\, 642 Red Cedar Road\, East Lansing\, MI\, 48824\, United States
CATEGORIES:In Person
ATTACH;FMTTYPE=image/jpeg:/wp-content/uploads/9bfcb394471dfd14c698a4a82b5d612d-jO0QAq.tmp_.jpg
END:VEVENT
END:VCALENDAR