BEGIN:VCALENDAR
VERSION:2.0
PRODID:-//WoodWorks | Wood Products Council - ECPv6.15.20//NONSGML v1.0//EN
CALSCALE:GREGORIAN
METHOD:PUBLISH
X-WR-CALNAME:WoodWorks | Wood Products Council
X-ORIGINAL-URL:https://www.woodworks.org
X-WR-CALDESC:Events for WoodWorks | Wood Products Council
REFRESH-INTERVAL;VALUE=DURATION:PT1H
X-Robots-Tag:noindex
X-PUBLISHED-TTL:PT1H
BEGIN:VTIMEZONE
TZID:America/Detroit
BEGIN:DAYLIGHT
TZOFFSETFROM:-0500
TZOFFSETTO:-0400
TZNAME:EDT
DTSTART:20240310T070000
END:DAYLIGHT
BEGIN:STANDARD
TZOFFSETFROM:-0400
TZOFFSETTO:-0500
TZNAME:EST
DTSTART:20241103T060000
END:STANDARD
BEGIN:DAYLIGHT
TZOFFSETFROM:-0500
TZOFFSETTO:-0400
TZNAME:EDT
DTSTART:20250309T070000
END:DAYLIGHT
BEGIN:STANDARD
TZOFFSETFROM:-0400
TZOFFSETTO:-0500
TZNAME:EST
DTSTART:20251102T060000
END:STANDARD
BEGIN:DAYLIGHT
TZOFFSETFROM:-0500
TZOFFSETTO:-0400
TZNAME:EDT
DTSTART:20260308T070000
END:DAYLIGHT
BEGIN:STANDARD
TZOFFSETFROM:-0400
TZOFFSETTO:-0500
TZNAME:EST
DTSTART:20261101T060000
END:STANDARD
END:VTIMEZONE
BEGIN:VEVENT
DTSTART;TZID=America/Detroit:20250613T100000
DTEND;TZID=America/Detroit:20250613T140000
DTSTAMP:20260420T185900
CREATED:20250505T154716Z
LAST-MODIFIED:20250506T184937Z
UID:10000374-1749808800-1749823200@www.woodworks.org
SUMMARY:Tall Wood Construction + Michigan State University STEM Facility Site Tour
DESCRIPTION:Regional In-Person Seminar + Tour (East Lansing\, MI)\n\n\nA New Path Forward for Tall Wood Construction + Michigan State University STEM Facility Site Tour \nSeminar\, 10:00 am – 12:30 pm EDT \nModern building products and evolving codes have opened the door to many new opportunities for construction\, one of which is tall wood. In 2019\, the International Code Council (ICC) approved a set of proposals to allow tall wood buildings of up to 18 stories as part of the 2021 International Building Code (IBC). This presentation will provide an in-depth review of the tall wood code provisions\, from a review of the technical research and testing that supported their adoption to the methods of addressing the new requirements. \nMSU STEM Building Tour\, 1:00 pm – 2 pm EDT \nJoin project team members for a tour of Michigan State University’s new STEM Teaching and Learning Facility\, which includes two mass timber wings flanking the decommissioned\, revitalized\, and repurposed Shaw Lane Power Plant. \n  \nSchedule: \n9:30 – 10:00am: Registration \n10:00 – 12:30pm: Presentation \n12:30 – 1:00pm: Lunch \n1:00 – 2:00pm: Tour \n  \n \nThis seminar is supported in part by MassTimber@MSU\, a program at Michigan State University that leverages research\, education\, outreach\, communications\, policy\, and partnerships to advance sustainable mass timber construction and manufacture in Michigan and the surrounding region. For more information visit www.masstimber.msu.edu \n  \nView this project on WIN – WoodWorks Innovation Network \n  \nSpeaker: Anthony Harvey\, PE\, WoodWorks \n  \nAttendees can earn: \n\n2 AIA/CES HSW LUs\, 2 PDH credits or 0.2 ICC credits (seminar)\n1 AIA/CES HSW LUs\, 1 PDH credit or 0.1 ICC credit (tour)\n\n  \nEvent Parking: \nParking: Lot 79 – the Spartan Stadium lot – located directly west of the STEM building. This is metered parking. \nMap & Directions \n  \nFor questions or additional information\, please contact: \nLeeAnn Charpentier\, CMP | leeann.charpentier@woodworks.org | (301) 633-0330 \n  \nImage: MSU STEM Teaching and Learning Facility / Integrated Design Solutions / photo Christofer Lark
URL:https://www.woodworks.org/event/q2-25-tall-wood-msu-tour-in-person-harvey/
LOCATION:Michigan State University (MSU) STEM Teaching Learning Facility\, 642 Red Cedar Road\, East Lansing\, MI\, 48824\, United States
CATEGORIES:In Person
ATTACH;FMTTYPE=image/jpeg:/wp-content/uploads/52fcefb1043889bc623e28b7870afd1c-J9BTFz.tmp_.jpg
END:VEVENT
END:VCALENDAR